BEGIN:VCALENDAR
VERSION:2.0
PRODID:-//Personal Genetics Education &amp; Dialogue - ECPv6.15.20//NONSGML v1.0//EN
CALSCALE:GREGORIAN
METHOD:PUBLISH
X-ORIGINAL-URL:https://pged.org
X-WR-CALDESC:Events for Personal Genetics Education &amp; Dialogue
REFRESH-INTERVAL;VALUE=DURATION:PT1H
X-Robots-Tag:noindex
X-PUBLISHED-TTL:PT1H
BEGIN:VTIMEZONE
TZID:UTC
BEGIN:STANDARD
TZOFFSETFROM:+0000
TZOFFSETTO:+0000
TZNAME:UTC
DTSTART:20250101T000000
END:STANDARD
END:VTIMEZONE
BEGIN:VEVENT
DTSTART;VALUE=DATE:20260516
DTEND;VALUE=DATE:20260519
DTSTAMP:20260419T122004
CREATED:20260416T224753Z
LAST-MODIFIED:20260416T224753Z
UID:10000125-1778889600-1779148799@pged.org
SUMMARY:PGED Booth at America Innovates - San Francisco\, CA
DESCRIPTION:PGED was invited to exhibit at the inaugural America Innovates celebration\, designed to inspire the next generation of American innovators and entrepreneurs. The event will be a free\, open-to-the-public\, for all ages\, three-day experience highlighting innovations of the past\, present\, and future.
URL:https://pged.org/event/pged-booth-at-america-innovates-san-francisco-ca/
LOCATION:Gateway Pavilion – Pier 2\, 2 Marina Boulevard\, San Francisco\, CA\, 94123\, United States
END:VEVENT
END:VCALENDAR